BEGIN:VCALENDAR
VERSION:2.0
PRODID:-//Rainbow harmony - ECPv6.7.0//NONSGML v1.0//EN
CALSCALE:GREGORIAN
METHOD:PUBLISH
X-WR-CALNAME:Rainbow harmony
X-ORIGINAL-URL:https://rbharmony.com
X-WR-CALDESC:Rainbow harmony のイベント
REFRESH-INTERVAL;VALUE=DURATION:PT1H
X-Robots-Tag:noindex
X-PUBLISHED-TTL:PT1H
BEGIN:VTIMEZONE
TZID:Asia/Tokyo
BEGIN:STANDARD
TZOFFSETFROM:+0900
TZOFFSETTO:+0900
TZNAME:JST
DTSTART:20250101T000000
END:STANDARD
END:VTIMEZONE
BEGIN:VEVENT
DTSTART;TZID=Asia/Tokyo:20250705T143000
DTEND;TZID=Asia/Tokyo:20250705T160000
DTSTAMP:20260420T154808
CREATED:20250610T140627Z
LAST-MODIFIED:20250610T141031Z
UID:830-1751725800-1751731200@rbharmony.com
SUMMARY:自分の魅力をもっと引き出す♪ビューティーセミナー
DESCRIPTION:資生堂ジャパン株式会社様のご協力のもと、「自分の魅力をもっと引き出す♪ビューティーセミナー」を開催します！ \n今回のイベントは、女性も男性も、若い方もご年配の方も、メイクに興味のある方ならどなたでも大歓迎！ \n当日はメイクを一度オフして、資生堂の美容部員さんのアドバイスを受けながら、ご自身でメイクに挑戦していただきます。 \n使用するメイク用品はすべてご用意していますので、手ぶらでお越しください。 \n後半には、美容部員さんへの質問タイムもありますので、気になることを何でも聞いてみてくださいね♪ \nおひとりでも、お友達とご一緒でも大丈夫！お気軽にご参加ください✨ \n  \n \n----- \n日時：7/5(土曜日)14時30分〜16時（14時開場） \n場所：福岡市博多区博多駅前1-13-1　九勧承天寺通りビル \n参加費：2\,000円 \n-----
URL:https://rbharmony.com/event/beautyseminar/
CATEGORIES:交流会
END:VEVENT
BEGIN:VEVENT
DTSTART;TZID=Asia/Tokyo:20250125T123000
DTEND;TZID=Asia/Tokyo:20250125T163000
DTSTAMP:20260420T154808
CREATED:20250113T030457Z
LAST-MODIFIED:20250208T082047Z
UID:625-1737808200-1737822600@rbharmony.com
SUMMARY:Rainbow harmony新年会
DESCRIPTION:  \n \n日時\n1月25日（土）開場12：30～閉会16：30（4時間）\n※途中から参加も大丈夫です！ \n場所\nライトハウス薬院 \n参加費\n1\,000円（たこ焼き付）\n※ドリンクなど持ち込み自由です。 \n申し込み方法\nイベントに参加される方は下のボタンからお申込みください。
URL:https://rbharmony.com/event/rainbow-harmony%e6%96%b0%e5%b9%b4%e4%bc%9a/
CATEGORIES:交流会
END:VEVENT
END:VCALENDAR